BEGIN:VCALENDAR
VERSION:2.0
PRODID:-//Sportschule Jung Wuppertal - ECPv5.1.1//NONSGML v1.0//EN
CALSCALE:GREGORIAN
METHOD:PUBLISH
X-WR-CALNAME:Sportschule Jung Wuppertal
X-ORIGINAL-URL:https://sportschule-jung.de
X-WR-CALDESC:Veranstaltungen im Sportschule Jung Wuppertal
BEGIN:VTIMEZONE
TZID:UTC
BEGIN:STANDARD
TZOFFSETFROM:+0000
TZOFFSETTO:+0000
TZNAME:UTC
DTSTART:20210101T000000
END:STANDARD
END:VTIMEZONE
BEGIN:VEVENT
DTSTART;VALUE=DATE:20211204
DTEND;VALUE=DATE:20211205
DTSTAMP:20260419T153212
CREATED:20211025T212942Z
LAST-MODIFIED:20211025T212942Z
UID:3964-1638576000-1638662399@sportschule-jung.de
SUMMARY:Fight Night Ense-Bremen
DESCRIPTION:
URL:https://sportschule-jung.de/event/fight-night-ense-bremen/
LOCATION:Schützenhalle Gleidorf\, Am Hügel 5\, Ense\, Gleidorf\, 57392\, Deutschland
ATTACH;FMTTYPE=image/jpeg:https://sportschule-jung.de/wp-content/uploads/2021/10/Fight-Night-Ense.jpg
END:VEVENT
END:VCALENDAR