BEGIN:VCALENDAR
VERSION:2.0
PRODID:-//Sportschule Jung Wuppertal - ECPv5.1.1//NONSGML v1.0//EN
CALSCALE:GREGORIAN
METHOD:PUBLISH
X-WR-CALNAME:Sportschule Jung Wuppertal
X-ORIGINAL-URL:https://sportschule-jung.de
X-WR-CALDESC:Veranstaltungen im Sportschule Jung Wuppertal
BEGIN:VTIMEZONE
TZID:UTC
BEGIN:STANDARD
TZOFFSETFROM:+0000
TZOFFSETTO:+0000
TZNAME:UTC
DTSTART:20200101T000000
END:STANDARD
END:VTIMEZONE
BEGIN:VEVENT
DTSTART;VALUE=DATE:20201114
DTEND;VALUE=DATE:20201115
DTSTAMP:20260419T183442
CREATED:20200928T213604Z
LAST-MODIFIED:20200928T213625Z
UID:3771-1605312000-1605398399@sportschule-jung.de
SUMMARY:Gürtelprüfung 2020
DESCRIPTION:
URL:https://sportschule-jung.de/event/guertelpruefung-2/
LOCATION:Sportschule Jung\, Elbersstr. 51\, Wuppertal\, Nordrhein Westfalen\, 42277\, Deutschland
ATTACH;FMTTYPE=image/jpeg:https://sportschule-jung.de/wp-content/uploads/2014/06/Gürtel.jpg
END:VEVENT
END:VCALENDAR