BEGIN:VCALENDAR
VERSION:2.0
PRODID:-//Sportschule Jung Wuppertal - ECPv5.1.1//NONSGML v1.0//EN
CALSCALE:GREGORIAN
METHOD:PUBLISH
X-WR-CALNAME:Sportschule Jung Wuppertal
X-ORIGINAL-URL:https://sportschule-jung.de
X-WR-CALDESC:Veranstaltungen im Sportschule Jung Wuppertal
BEGIN:VTIMEZONE
TZID:UTC
BEGIN:STANDARD
TZOFFSETFROM:+0000
TZOFFSETTO:+0000
TZNAME:UTC
DTSTART:20200101T000000
END:STANDARD
END:VTIMEZONE
BEGIN:VEVENT
DTSTART;TZID=UTC:20200620T090000
DTEND;TZID=UTC:20200620T150000
DTSTAMP:20260419T155409
CREATED:20200323T201841Z
LAST-MODIFIED:20200323T201841Z
UID:3682-1592643600-1592665200@sportschule-jung.de
SUMMARY:Gürtelprüfung
DESCRIPTION:
URL:https://sportschule-jung.de/event/guertelpruefung/
LOCATION:Sportschule Jung\, Elbersstr. 51\, Wuppertal\, Nordrhein Westfalen\, 42277\, Deutschland
ATTACH;FMTTYPE=image/jpeg:https://sportschule-jung.de/wp-content/uploads/2014/06/Gürtel.jpg
END:VEVENT
END:VCALENDAR