BEGIN:VCALENDAR
VERSION:2.0
PRODID:-//Sportschule Jung Wuppertal - ECPv5.1.1//NONSGML v1.0//EN
CALSCALE:GREGORIAN
METHOD:PUBLISH
X-WR-CALNAME:Sportschule Jung Wuppertal
X-ORIGINAL-URL:https://sportschule-jung.de
X-WR-CALDESC:Veranstaltungen im Sportschule Jung Wuppertal
BEGIN:VTIMEZONE
TZID:UTC
BEGIN:STANDARD
TZOFFSETFROM:+0000
TZOFFSETTO:+0000
TZNAME:UTC
DTSTART:20200101T000000
END:STANDARD
END:VTIMEZONE
BEGIN:VEVENT
DTSTART;VALUE=DATE:20200417
DTEND;VALUE=DATE:20200428
DTSTAMP:20260419T195915
CREATED:20200323T193657Z
LAST-MODIFIED:20200323T201352Z
UID:3664-1587081600-1588031999@sportschule-jung.de
SUMMARY:Osterferien
DESCRIPTION:
URL:https://sportschule-jung.de/event/test-1/
ATTACH;FMTTYPE=image/jpeg:https://sportschule-jung.de/wp-content/uploads/2014/04/Easter-Bunny-2014-HD-Wallpaper.jpg
END:VEVENT
END:VCALENDAR